Package: mbQTL Version: 1.0.0 Command: /home/biocbuild/bbs-3.17-bioc/R/bin/R CMD INSTALL mbQTL StartedAt: 2023-10-15 15:40:54 -0400 (Sun, 15 Oct 2023) EndedAt: 2023-10-15 15:41:04 -0400 (Sun, 15 Oct 2023) EllapsedTime: 10.1 seconds RetCode: 0 Status: OK