Package: mbOmic Version: 1.3.0 Command: rm -rf mbOmic.buildbin-libdir && mkdir mbOmic.buildbin-libdir && F:\biocbuild\bbs-3.17-bioc\R\bin\R.exe CMD INSTALL --build --library=mbOmic.buildbin-libdir mbOmic_1.3.0.tar.gz StartedAt: 2023-04-17 08:28:52 -0400 (Mon, 17 Apr 2023) EndedAt: 2023-04-17 08:29:25 -0400 (Mon, 17 Apr 2023) EllapsedTime: 32.4 seconds RetCode: 0 Status: OK PackageFile: mbOmic_1.3.0.zip PackageFileSize: 708.5 KiB