Package: mbOmic Version: 1.3.0 Command: /home/biocbuild/bbs-3.17-bioc/R/bin/R CMD check --install=check:mbOmic.install-out.txt --library=/home/biocbuild/bbs-3.17-bioc/R/site-library --timings mbOmic_1.3.0.tar.gz StartedAt: 2023-04-16 21:25:37 -0400 (Sun, 16 Apr 2023) EndedAt: 2023-04-16 21:29:06 -0400 (Sun, 16 Apr 2023) EllapsedTime: 209.1 seconds RetCode: 0 Status: OK CheckDir: mbOmic.Rcheck Warnings: 0