Package: mbOmic Version: 1.3.0 Command: rm -rf mbOmic.buildbin-libdir && mkdir mbOmic.buildbin-libdir && /Users/biocbuild/BBS/utils/build-universal.sh mbOmic_1.3.0.tar.gz /Library/Frameworks/R.framework/Resources/bin/R mbOmic.buildbin-libdir StartedAt: 2023-04-17 09:07:23 -0400 (Mon, 17 Apr 2023) EndedAt: 2023-04-17 09:08:39 -0400 (Mon, 17 Apr 2023) EllapsedTime: 76.1 seconds RetCode: 0 Status: OK PackageFile: mbOmic_1.3.0.tgz PackageFileSize: 772.7 KiB