Package: massiR Version: 1.36.0 Command: F:\biocbuild\bbs-3.17-bioc\R\bin\R.exe CMD check --no-multiarch --install=check:massiR.install-out.txt --library=F:\biocbuild\bbs-3.17-bioc\R\library --no-vignettes --timings massiR_1.36.0.tar.gz StartedAt: 2023-10-16 03:41:52 -0400 (Mon, 16 Oct 2023) EndedAt: 2023-10-16 03:42:27 -0400 (Mon, 16 Oct 2023) EllapsedTime: 34.8 seconds RetCode: 0 Status: OK CheckDir: massiR.Rcheck Warnings: 0