Package: maSigPro Version: 1.72.0 Command: /home/biocbuild/bbs-3.17-bioc/R/bin/R CMD check --install=check:maSigPro.install-out.txt --library=/home/biocbuild/bbs-3.17-bioc/R/site-library --timings maSigPro_1.72.0.tar.gz StartedAt: 2023-10-15 22:29:31 -0400 (Sun, 15 Oct 2023) EndedAt: 2023-10-15 22:31:44 -0400 (Sun, 15 Oct 2023) EllapsedTime: 133.4 seconds RetCode: 0 Status: OK CheckDir: maSigPro.Rcheck Warnings: 0