Package: mBPCR Version: 1.54.0 Command: rm -rf mBPCR.buildbin-libdir && mkdir mBPCR.buildbin-libdir && F:\biocbuild\bbs-3.17-bioc\R\bin\R.exe CMD INSTALL --build --library=mBPCR.buildbin-libdir mBPCR_1.54.0.tar.gz StartedAt: 2023-10-16 09:02:25 -0400 (Mon, 16 Oct 2023) EndedAt: 2023-10-16 09:03:03 -0400 (Mon, 16 Oct 2023) EllapsedTime: 38.5 seconds RetCode: 0 Status: OK PackageFile: mBPCR_1.54.0.zip PackageFileSize: 786 KiB