Package: mBPCR Version: 1.54.0 Command: /home/biocbuild/bbs-3.17-bioc/R/bin/R CMD check --install=check:mBPCR.install-out.txt --library=/home/biocbuild/bbs-3.17-bioc/R/site-library --timings mBPCR_1.54.0.tar.gz StartedAt: 2023-10-15 22:31:42 -0400 (Sun, 15 Oct 2023) EndedAt: 2023-10-15 22:35:59 -0400 (Sun, 15 Oct 2023) EllapsedTime: 256.2 seconds RetCode: 0 Status: OK CheckDir: mBPCR.Rcheck Warnings: 0