Package: mBPCR Version: 1.54.0 Command: /Library/Frameworks/R.framework/Resources/bin/R CMD INSTALL mBPCR StartedAt: 2023-10-15 16:10:33 -0400 (Sun, 15 Oct 2023) EndedAt: 2023-10-15 16:12:12 -0400 (Sun, 15 Oct 2023) EllapsedTime: 99.2 seconds RetCode: 0 Status: OK