Package: mBPCR Version: 1.54.0 Command: /Library/Frameworks/R.framework/Resources/bin/R CMD build --keep-empty-dirs --no-resave-data mBPCR StartedAt: 2023-10-15 19:16:38 -0400 (Sun, 15 Oct 2023) EndedAt: 2023-10-15 19:19:01 -0400 (Sun, 15 Oct 2023) EllapsedTime: 143.3 seconds RetCode: 0 Status: OK PackageFile: mBPCR_1.54.0.tar.gz PackageFileSize: 835.7 KiB