Package: logitT Version: 1.58.0 Command: /Library/Frameworks/R.framework/Resources/bin/R CMD check --install=check:logitT.install-out.txt --library=/Library/Frameworks/R.framework/Resources/library --no-vignettes --timings logitT_1.58.0.tar.gz StartedAt: 2023-10-16 03:16:11 -0400 (Mon, 16 Oct 2023) EndedAt: 2023-10-16 03:17:22 -0400 (Mon, 16 Oct 2023) EllapsedTime: 70.9 seconds RetCode: 0 Status: OK CheckDir: logitT.Rcheck Warnings: 0