Package: logitT Version: 1.58.0 Command: /Library/Frameworks/R.framework/Resources/bin/R CMD build --keep-empty-dirs --no-resave-data logitT StartedAt: 2023-10-15 19:10:50 -0400 (Sun, 15 Oct 2023) EndedAt: 2023-10-15 19:11:24 -0400 (Sun, 15 Oct 2023) EllapsedTime: 34.3 seconds RetCode: 0 Status: OK PackageFile: logitT_1.58.0.tar.gz PackageFileSize: 291.7 KiB