Package: logicFS Version: 2.20.0 Command: /Library/Frameworks/R.framework/Resources/bin/R CMD check --install=check:logicFS.install-out.txt --library=/Library/Frameworks/R.framework/Resources/library --no-vignettes --timings logicFS_2.20.0.tar.gz StartedAt: 2023-10-16 03:15:55 -0400 (Mon, 16 Oct 2023) EndedAt: 2023-10-16 03:18:35 -0400 (Mon, 16 Oct 2023) EllapsedTime: 160.3 seconds RetCode: 0 Status: OK CheckDir: logicFS.Rcheck Warnings: 0