Package: lmdme Version: 1.42.0 Command: chmod a+r lmdme -R && F:\biocbuild\bbs-3.17-bioc\R\bin\R.exe CMD build --keep-empty-dirs --no-resave-data lmdme StartedAt: 2023-10-15 20:06:42 -0400 (Sun, 15 Oct 2023) EndedAt: 2023-10-15 20:07:05 -0400 (Sun, 15 Oct 2023) EllapsedTime: 23.6 seconds RetCode: 0 Status: OK PackageFile: lmdme_1.42.0.tar.gz PackageFileSize: 611.5 KiB