Package: lisaClust Version: 1.8.2 Command: /home/biocbuild/bbs-3.17-bioc/R/bin/R CMD check --install=check:lisaClust.install-out.txt --library=/home/biocbuild/bbs-3.17-bioc/R/site-library --timings lisaClust_1.8.2.tar.gz StartedAt: 2023-10-15 22:23:21 -0400 (Sun, 15 Oct 2023) EndedAt: 2023-10-15 22:28:41 -0400 (Sun, 15 Oct 2023) EllapsedTime: 319.4 seconds RetCode: 0 Status: OK CheckDir: lisaClust.Rcheck Warnings: 0