Package: limmaGUI Version: 1.76.0 Command: /Library/Frameworks/R.framework/Resources/bin/R CMD check --install=check:limmaGUI.install-out.txt --library=/Library/Frameworks/R.framework/Resources/library --no-vignettes --timings limmaGUI_1.76.0.tar.gz StartedAt: 2023-10-16 03:13:58 -0400 (Mon, 16 Oct 2023) EndedAt: 2023-10-16 03:16:32 -0400 (Mon, 16 Oct 2023) EllapsedTime: 154.1 seconds RetCode: 0 Status: OK CheckDir: limmaGUI.Rcheck Warnings: 0