Package: limmaGUI Version: 1.76.0 Command: /Library/Frameworks/R.framework/Resources/bin/R CMD build --keep-empty-dirs --no-resave-data limmaGUI StartedAt: 2023-10-15 19:09:28 -0400 (Sun, 15 Oct 2023) EndedAt: 2023-10-15 19:10:31 -0400 (Sun, 15 Oct 2023) EllapsedTime: 63.1 seconds RetCode: 0 Status: OK PackageFile: limmaGUI_1.76.0.tar.gz PackageFileSize: 5.346 MiB