Package: limma Version: 3.56.2 Command: /Library/Frameworks/R.framework/Resources/bin/R CMD build --keep-empty-dirs --no-resave-data limma StartedAt: 2023-10-15 19:09:27 -0400 (Sun, 15 Oct 2023) EndedAt: 2023-10-15 19:10:22 -0400 (Sun, 15 Oct 2023) EllapsedTime: 55.6 seconds RetCode: 0 Status: OK PackageFile: limma_3.56.2.tar.gz PackageFileSize: 1.507 MiB