Package: limma Version: 3.56.2 Command: rm -rf limma.buildbin-libdir && mkdir limma.buildbin-libdir && /Users/biocbuild/BBS/utils/build-universal.sh limma_3.56.2.tar.gz /Library/Frameworks/R.framework/Resources/bin/R limma.buildbin-libdir StartedAt: 2023-10-16 09:37:42 -0400 (Mon, 16 Oct 2023) EndedAt: 2023-10-16 09:38:50 -0400 (Mon, 16 Oct 2023) EllapsedTime: 67.9 seconds RetCode: 0 Status: OK PackageFile: limma_3.56.2.tgz PackageFileSize: 2.789 MiB