Package: lfa Version: 2.0.11 Command: rm -rf lfa.buildbin-libdir && mkdir lfa.buildbin-libdir && F:\biocbuild\bbs-3.17-bioc\R\bin\R.exe CMD INSTALL --build --library=lfa.buildbin-libdir lfa_2.0.11.tar.gz StartedAt: 2023-10-16 09:00:15 -0400 (Mon, 16 Oct 2023) EndedAt: 2023-10-16 09:00:22 -0400 (Mon, 16 Oct 2023) EllapsedTime: 7.6 seconds RetCode: 0 Status: OK PackageFile: lfa_2.0.11.zip PackageFileSize: 508 KiB