Package: lfa Version: 2.0.11 Command: /home/biocbuild/bbs-3.17-bioc/R/bin/R CMD INSTALL lfa StartedAt: 2023-10-15 15:08:06 -0400 (Sun, 15 Oct 2023) EndedAt: 2023-10-15 15:08:24 -0400 (Sun, 15 Oct 2023) EllapsedTime: 18.2 seconds RetCode: 0 Status: OK