Package: lfa Version: 2.0.11 Command: /home/biocbuild/bbs-3.17-bioc/R/bin/R CMD check --install=check:lfa.install-out.txt --library=/home/biocbuild/bbs-3.17-bioc/R/site-library --timings lfa_2.0.11.tar.gz StartedAt: 2023-10-15 22:22:16 -0400 (Sun, 15 Oct 2023) EndedAt: 2023-10-15 22:22:52 -0400 (Sun, 15 Oct 2023) EllapsedTime: 36.3 seconds RetCode: 0 Status: OK CheckDir: lfa.Rcheck Warnings: 0