Package: lfa Version: 2.0.11 Command: rm -rf lfa.buildbin-libdir && mkdir lfa.buildbin-libdir && /Users/biocbuild/BBS/utils/build-universal.sh lfa_2.0.11.tar.gz /Library/Frameworks/R.framework/Resources/bin/R lfa.buildbin-libdir StartedAt: 2023-10-16 09:37:40 -0400 (Mon, 16 Oct 2023) EndedAt: 2023-10-16 09:37:51 -0400 (Mon, 16 Oct 2023) EllapsedTime: 11.2 seconds RetCode: 0 Status: OK PackageFile: lfa_2.0.11.tgz PackageFileSize: 503 KiB