Package: katdetectr Version: 1.2.0 Command: F:\biocbuild\bbs-3.17-bioc\R\bin\R.exe CMD INSTALL katdetectr StartedAt: 2023-10-15 16:46:13 -0400 (Sun, 15 Oct 2023) EndedAt: 2023-10-15 16:47:35 -0400 (Sun, 15 Oct 2023) EllapsedTime: 82.1 seconds RetCode: 0 Status: OK