Package: isobar Version: 1.46.0 Command: chmod a+r isobar -R && F:\biocbuild\bbs-3.17-bioc\R\bin\R.exe CMD build --keep-empty-dirs --no-resave-data isobar StartedAt: 2023-10-15 20:01:50 -0400 (Sun, 15 Oct 2023) EndedAt: 2023-10-15 20:03:44 -0400 (Sun, 15 Oct 2023) EllapsedTime: 113.4 seconds RetCode: 0 Status: OK PackageFile: isobar_1.46.0.tar.gz PackageFileSize: 2.605 MiB