Package: icetea Version: 1.18.1 Command: rm -rf icetea.buildbin-libdir && mkdir icetea.buildbin-libdir && /Users/biocbuild/BBS/utils/build-universal.sh icetea_1.18.1.tar.gz /Library/Frameworks/R.framework/Resources/bin/R icetea.buildbin-libdir StartedAt: 2023-10-16 09:34:11 -0400 (Mon, 16 Oct 2023) EndedAt: 2023-10-16 09:36:54 -0400 (Mon, 16 Oct 2023) EllapsedTime: 162.8 seconds RetCode: 0 Status: OK PackageFile: icetea_1.18.1.tgz PackageFileSize: 1.062 MiB