Package: iCNV Version: 1.20.0 Command: rm -rf iCNV.buildbin-libdir && mkdir iCNV.buildbin-libdir && F:\biocbuild\bbs-3.17-bioc\R\bin\R.exe CMD INSTALL --build --library=iCNV.buildbin-libdir iCNV_1.20.0.tar.gz StartedAt: 2023-10-16 08:57:02 -0400 (Mon, 16 Oct 2023) EndedAt: 2023-10-16 08:57:41 -0400 (Mon, 16 Oct 2023) EllapsedTime: 39.6 seconds RetCode: 0 Status: OK PackageFile: iCNV_1.20.0.zip PackageFileSize: 1.899 MiB