Package: iCARE Version: 1.28.0 Command: F:\biocbuild\bbs-3.17-bioc\R\bin\R.exe CMD INSTALL iCARE StartedAt: 2023-10-15 16:30:14 -0400 (Sun, 15 Oct 2023) EndedAt: 2023-10-15 16:30:27 -0400 (Sun, 15 Oct 2023) EllapsedTime: 13.9 seconds RetCode: 0 Status: OK