Package: iCARE Version: 1.28.0 Command: F:\biocbuild\bbs-3.17-bioc\R\bin\R.exe CMD check --no-multiarch --install=check:iCARE.install-out.txt --library=F:\biocbuild\bbs-3.17-bioc\R\library --no-vignettes --timings iCARE_1.28.0.tar.gz StartedAt: 2023-10-16 03:07:58 -0400 (Mon, 16 Oct 2023) EndedAt: 2023-10-16 03:09:29 -0400 (Mon, 16 Oct 2023) EllapsedTime: 91.5 seconds RetCode: 0 Status: WARNINGS CheckDir: iCARE.Rcheck Warnings: 1