Package: iCARE Version: 1.28.0 Command: chmod a+r iCARE -R && F:\biocbuild\bbs-3.17-bioc\R\bin\R.exe CMD build --keep-empty-dirs --no-resave-data iCARE StartedAt: 2023-10-15 19:52:21 -0400 (Sun, 15 Oct 2023) EndedAt: 2023-10-15 19:55:43 -0400 (Sun, 15 Oct 2023) EllapsedTime: 202.4 seconds RetCode: 0 Status: OK PackageFile: iCARE_1.28.0.tar.gz PackageFileSize: 1.252 MiB