Package: iCARE Version: 1.28.0 Command: rm -rf iCARE.buildbin-libdir && mkdir iCARE.buildbin-libdir && /Users/biocbuild/BBS/utils/build-universal.sh iCARE_1.28.0.tar.gz /Library/Frameworks/R.framework/Resources/bin/R iCARE.buildbin-libdir StartedAt: 2023-10-16 09:34:08 -0400 (Mon, 16 Oct 2023) EndedAt: 2023-10-16 09:34:35 -0400 (Mon, 16 Oct 2023) EllapsedTime: 27.7 seconds RetCode: 0 Status: OK PackageFile: iCARE_1.28.0.tgz PackageFileSize: 1.507 MiB