Package: hopach Version: 2.60.0 Command: F:\biocbuild\bbs-3.17-bioc\R\bin\R.exe CMD check --no-multiarch --install=check:hopach.install-out.txt --library=F:\biocbuild\bbs-3.17-bioc\R\library --no-vignettes --timings hopach_2.60.0.tar.gz StartedAt: 2023-10-16 03:05:13 -0400 (Mon, 16 Oct 2023) EndedAt: 2023-10-16 03:06:13 -0400 (Mon, 16 Oct 2023) EllapsedTime: 59.9 seconds RetCode: 0 Status: OK CheckDir: hopach.Rcheck Warnings: 0