Package: hopach Version: 2.60.0 Command: rm -rf hopach.buildbin-libdir && mkdir hopach.buildbin-libdir && F:\biocbuild\bbs-3.17-bioc\R\bin\R.exe CMD INSTALL --build --library=hopach.buildbin-libdir hopach_2.60.0.tar.gz StartedAt: 2023-10-16 08:56:24 -0400 (Mon, 16 Oct 2023) EndedAt: 2023-10-16 08:56:42 -0400 (Mon, 16 Oct 2023) EllapsedTime: 17.4 seconds RetCode: 0 Status: OK PackageFile: hopach_2.60.0.zip PackageFileSize: 968.9 KiB