Package: hierinf Version: 1.18.0 Command: chmod a+r hierinf -R && F:\biocbuild\bbs-3.17-bioc\R\bin\R.exe CMD build --keep-empty-dirs --no-resave-data hierinf StartedAt: 2023-10-15 19:49:11 -0400 (Sun, 15 Oct 2023) EndedAt: 2023-10-15 19:50:41 -0400 (Sun, 15 Oct 2023) EllapsedTime: 90.2 seconds RetCode: 0 Status: OK PackageFile: hierinf_1.18.0.tar.gz PackageFileSize: 430.6 KiB