Package: hierinf Version: 1.18.0 Command: /Library/Frameworks/R.framework/Resources/bin/R CMD build --keep-empty-dirs --no-resave-data hierinf StartedAt: 2023-10-15 18:52:55 -0400 (Sun, 15 Oct 2023) EndedAt: 2023-10-15 18:56:05 -0400 (Sun, 15 Oct 2023) EllapsedTime: 190.1 seconds RetCode: 0 Status: OK PackageFile: hierinf_1.18.0.tar.gz PackageFileSize: 432.1 KiB