Package: hiAnnotator Version: 1.34.0 Command: F:\biocbuild\bbs-3.17-bioc\R\bin\R.exe CMD check --no-multiarch --install=check:hiAnnotator.install-out.txt --library=F:\biocbuild\bbs-3.17-bioc\R\library --no-vignettes --timings hiAnnotator_1.34.0.tar.gz StartedAt: 2023-10-16 02:59:54 -0400 (Mon, 16 Oct 2023) EndedAt: 2023-10-16 03:03:28 -0400 (Mon, 16 Oct 2023) EllapsedTime: 214.2 seconds RetCode: 0 Status: OK CheckDir: hiAnnotator.Rcheck Warnings: 0