Package: gscreend Version: 1.14.0 Command: /Library/Frameworks/R.framework/Resources/bin/R CMD build --keep-empty-dirs --no-resave-data gscreend StartedAt: 2023-10-15 18:43:52 -0400 (Sun, 15 Oct 2023) EndedAt: 2023-10-15 18:48:01 -0400 (Sun, 15 Oct 2023) EllapsedTime: 248.1 seconds RetCode: 0 Status: OK PackageFile: gscreend_1.14.0.tar.gz PackageFileSize: 3.114 MiB