Package: graphite Version: 1.46.0 Command: /home/biocbuild/bbs-3.17-bioc/R/bin/R CMD check --install=check:graphite.install-out.txt --library=/home/biocbuild/bbs-3.17-bioc/R/site-library --timings graphite_1.46.0.tar.gz StartedAt: 2023-10-15 21:49:40 -0400 (Sun, 15 Oct 2023) EndedAt: 2023-10-15 21:55:10 -0400 (Sun, 15 Oct 2023) EllapsedTime: 329.7 seconds RetCode: 1 Status: ERROR CheckDir: graphite.Rcheck Warnings: NA