Package: graphite Version: 1.46.0 Command: /Library/Frameworks/R.framework/Resources/bin/R CMD build --keep-empty-dirs --no-resave-data graphite StartedAt: 2023-10-15 18:42:43 -0400 (Sun, 15 Oct 2023) EndedAt: 2023-10-15 18:45:03 -0400 (Sun, 15 Oct 2023) EllapsedTime: 140.3 seconds RetCode: 0 Status: OK PackageFile: graphite_1.46.0.tar.gz PackageFileSize: 773.2 KiB