Package: graphite Version: 1.46.0 Command: rm -rf graphite.buildbin-libdir && mkdir graphite.buildbin-libdir && /Users/biocbuild/BBS/utils/build-universal.sh graphite_1.46.0.tar.gz /Library/Frameworks/R.framework/Resources/bin/R graphite.buildbin-libdir StartedAt: 2023-10-16 09:31:10 -0400 (Mon, 16 Oct 2023) EndedAt: 2023-10-16 09:32:04 -0400 (Mon, 16 Oct 2023) EllapsedTime: 54.2 seconds RetCode: 0 Status: OK PackageFile: graphite_1.46.0.tgz PackageFileSize: 921.2 KiB