Package: gmapR Version: 1.41.0 Command: /Library/Frameworks/R.framework/Resources/bin/R CMD check --install=check:gmapR.install-out.txt --library=/Library/Frameworks/R.framework/Resources/library --no-vignettes --timings gmapR_1.41.0.tar.gz StartedAt: 2023-04-04 02:02:28 -0400 (Tue, 04 Apr 2023) EndedAt: 2023-04-04 02:19:02 -0400 (Tue, 04 Apr 2023) EllapsedTime: 993.9 seconds RetCode: 0 Status: WARNINGS CheckDir: gmapR.Rcheck Warnings: 7