Package: gmapR Version: 1.42.0 Command: /Library/Frameworks/R.framework/Resources/bin/R CMD build --keep-empty-dirs --no-resave-data gmapR StartedAt: 2023-10-15 18:37:49 -0400 (Sun, 15 Oct 2023) EndedAt: 2023-10-15 18:43:15 -0400 (Sun, 15 Oct 2023) EllapsedTime: 325.5 seconds RetCode: 1 Status: ERROR PackageFile: None PackageFileSize: NA