Package: gmapR Version: 1.41.0 Command: rm -rf gmapR.buildbin-libdir && mkdir gmapR.buildbin-libdir && /Users/biocbuild/BBS/utils/build-universal.sh gmapR_1.41.0.tar.gz /Library/Frameworks/R.framework/Resources/bin/R gmapR.buildbin-libdir StartedAt: 2023-04-04 09:23:00 -0400 (Tue, 04 Apr 2023) EndedAt: 2023-04-04 09:40:37 -0400 (Tue, 04 Apr 2023) EllapsedTime: 1056.8 seconds RetCode: 0 Status: OK PackageFile: gmapR_1.41.0.tgz PackageFileSize: 22.36 MiB