Package: ggtreeDendro Version: 1.2.1 Command: F:\biocbuild\bbs-3.17-bioc\R\bin\R.exe CMD check --no-multiarch --install=check:ggtreeDendro.install-out.txt --library=F:\biocbuild\bbs-3.17-bioc\R\library --no-vignettes --timings ggtreeDendro_1.2.1.tar.gz StartedAt: 2023-10-16 02:40:47 -0400 (Mon, 16 Oct 2023) EndedAt: 2023-10-16 02:41:34 -0400 (Mon, 16 Oct 2023) EllapsedTime: 46.4 seconds RetCode: 0 Status: OK CheckDir: ggtreeDendro.Rcheck Warnings: 0