Package: ggtreeDendro Version: 1.2.1 Command: rm -rf ggtreeDendro.buildbin-libdir && mkdir ggtreeDendro.buildbin-libdir && F:\biocbuild\bbs-3.17-bioc\R\bin\R.exe CMD INSTALL --build --library=ggtreeDendro.buildbin-libdir ggtreeDendro_1.2.1.tar.gz StartedAt: 2023-10-16 08:52:43 -0400 (Mon, 16 Oct 2023) EndedAt: 2023-10-16 08:52:51 -0400 (Mon, 16 Oct 2023) EllapsedTime: 8.0 seconds RetCode: 0 Status: OK PackageFile: ggtreeDendro_1.2.1.zip PackageFileSize: 176.3 KiB