Package: ggmanh Version: 1.4.0 Command: /Library/Frameworks/R.framework/Resources/bin/R CMD check --install=check:ggmanh.install-out.txt --library=/Library/Frameworks/R.framework/Resources/library --no-vignettes --timings ggmanh_1.4.0.tar.gz StartedAt: 2023-10-16 02:14:28 -0400 (Mon, 16 Oct 2023) EndedAt: 2023-10-16 02:16:11 -0400 (Mon, 16 Oct 2023) EllapsedTime: 103.2 seconds RetCode: 0 Status: WARNINGS CheckDir: ggmanh.Rcheck Warnings: 1