Package: ggcyto Version: 1.28.1 Command: /Library/Frameworks/R.framework/Resources/bin/R CMD INSTALL ggcyto StartedAt: 2023-10-15 15:29:16 -0400 (Sun, 15 Oct 2023) EndedAt: 2023-10-15 15:30:11 -0400 (Sun, 15 Oct 2023) EllapsedTime: 54.8 seconds RetCode: 0 Status: OK