Package: gespeR Version: 1.32.0 Command: rm -rf gespeR.buildbin-libdir && mkdir gespeR.buildbin-libdir && F:\biocbuild\bbs-3.17-bioc\R\bin\R.exe CMD INSTALL --build --library=gespeR.buildbin-libdir gespeR_1.32.0.tar.gz StartedAt: 2023-10-16 08:52:23 -0400 (Mon, 16 Oct 2023) EndedAt: 2023-10-16 08:53:22 -0400 (Mon, 16 Oct 2023) EllapsedTime: 59.0 seconds RetCode: 0 Status: OK PackageFile: gespeR_1.32.0.zip PackageFileSize: 2.769 MiB