Package: gespeR Version: 1.31.0 Command: /home/biocbuild/bbs-3.17-bioc/R/bin/R CMD check --install=check:gespeR.install-out.txt --library=/home/biocbuild/bbs-3.17-bioc/R/library --timings gespeR_1.31.0.tar.gz StartedAt: 2023-03-15 20:38:21 -0400 (Wed, 15 Mar 2023) EndedAt: 2023-03-15 20:43:19 -0400 (Wed, 15 Mar 2023) EllapsedTime: 297.7 seconds RetCode: 0 Status: WARNINGS CheckDir: gespeR.Rcheck Warnings: 1