Package: gespeR Version: 1.31.0 Command: /Library/Frameworks/R.framework/Resources/bin/R CMD check --install=check:gespeR.install-out.txt --library=/Library/Frameworks/R.framework/Resources/library --no-vignettes --timings gespeR_1.31.0.tar.gz StartedAt: 2023-03-16 02:02:08 -0400 (Thu, 16 Mar 2023) EndedAt: 2023-03-16 02:12:47 -0400 (Thu, 16 Mar 2023) EllapsedTime: 639.3 seconds RetCode: 0 Status: WARNINGS CheckDir: gespeR.Rcheck Warnings: 1